BEGIN:VCALENDAR
VERSION:2.0
PRODID:-//DOCWA - ECPv6.15.20//NONSGML v1.0//EN
CALSCALE:GREGORIAN
METHOD:PUBLISH
X-WR-CALNAME:DOCWA
X-ORIGINAL-URL:https://docwa.com.au
X-WR-CALDESC:Events for DOCWA
REFRESH-INTERVAL;VALUE=DURATION:PT1H
X-Robots-Tag:noindex
X-PUBLISHED-TTL:PT1H
BEGIN:VTIMEZONE
TZID:Asia/Shanghai
BEGIN:STANDARD
TZOFFSETFROM:+0800
TZOFFSETTO:+0800
TZNAME:CST
DTSTART:20210101T000000
END:STANDARD
END:VTIMEZONE
BEGIN:VEVENT
DTSTART;TZID=Asia/Shanghai:20220409T063000
DTEND;TZID=Asia/Shanghai:20220409T170000
DTSTAMP:20260421T114126
CREATED:20220217T141024Z
LAST-MODIFIED:20220314T111917Z
UID:1520-1649485800-1649523600@docwa.com.au
SUMMARY:Corse Motorcycles/Ducati Perth - Ducati Day at Wanneroo Raceway
DESCRIPTION:This is not a DOCWA event. But the ride to the event is. This is a great way for us to support a key club sponsor – and to have a hopefully decent group of us turn up at the track at the same time.  Note to 404 members – as the group ride to the raceway is a club event\, logging an Impromptu Run with the registrar is not required. \nDetails of the DOCWA ride to the Event \nGroup ride to Wanneroo Raceway. This is available for any member booked into a riding group\, displaying or simply spectating. \nDepart BP Ascot at  6.30am sharp. \nTop up / refuel at the Shell Coles Express in Baksia Grove before heading up to the Raceway. \nShould get there about 7.15am. \nDetails of the Event itself. \nPlease see Corse Motorcycles Facebook or Instagram pages for details \n \nCorse Motorcycles/Ducati Perth is proud to be hosting the first exclusive’ Ducati Only’ track day at Barbagallo on the 09th April 2022. The event will be the first of its type and spaces are limited. Details so far are as follows:\n1) At this stage 4 groups will be classified as:\nGroup 1: Pre 1994 (pre 916) – this group encourages all owners of classic Ducati’s to hit the track and will be run more of a parade lap than those chasing a lap time.\nGroup 2: This is the equivalent of Group 1 at ‘normal’ track day that encourages novices and first timers to experience the track and improve heir skills as well as seeing more of their bike’s capabilities. This group may also allow for those who owns touring bikes eg Multistrada’s\, who don’t want to go out with more sports bike orientated classes but again want to experience the track. Coaching will be available as our Service Manager and part-time Track Day instructor Stefano will be on hand to help.\nGroup 3: Fast Road riders and those who have done a track day before.\nGroup 4: Track bikes and experienced track riders.\nThese groups are subject to change once entries start to be collected.\n2) We would also like to encourage all Ducati owners to come down for the day even if you aren’t keen on getting out on the track and will have a display section for Ducati’s finest. We are also hoping for a grid photo before the event starts to showcase our love of Ducati here in WA.\n3) Cost of the day is $195 which will include track time and an exclusive Ducati Day T-Shirt (posted out after the event) which will only be available to those who enter. The price doesn’t include purchase of a day license for those who don’t hold a MWA license\, the cost is $35 and will last 90 days. Money WILL NOT refunded or credited for those that wish to cancel once paid.\n4) We will have a small range of demonstrators available to ride\, limited spots & terms and conditions apply.\n5) ASBK Desmosport Ducati rider Bryan Staring will be on hand to meet and greet and may also take the track on the new V4S (subject to border restrictions easing!)\n6) Entries go on sale from 15 Feb 2022. Please direct all enquiries to admin@corsemotorcycles.com.au\n 
URL:https://docwa.com.au/event/corse-motorcycles-ducati-perth-ducati-day-at-the-track/
LOCATION:BP Wild Bean in Ascot
ORGANIZER;CN="Rochelle Burley":MAILTO:events@docwa.com.au
END:VEVENT
END:VCALENDAR