BEGIN:VCALENDAR
VERSION:2.0
PRODID:-//DOCWA - ECPv6.15.20//NONSGML v1.0//EN
CALSCALE:GREGORIAN
METHOD:PUBLISH
X-WR-CALNAME:DOCWA
X-ORIGINAL-URL:https://docwa.com.au
X-WR-CALDESC:Events for DOCWA
REFRESH-INTERVAL;VALUE=DURATION:PT1H
X-Robots-Tag:noindex
X-PUBLISHED-TTL:PT1H
BEGIN:VTIMEZONE
TZID:Asia/Shanghai
BEGIN:STANDARD
TZOFFSETFROM:+0800
TZOFFSETTO:+0800
TZNAME:CST
DTSTART:20210101T000000
END:STANDARD
END:VTIMEZONE
BEGIN:VEVENT
DTSTART;TZID=Asia/Shanghai:20220327T083000
DTEND;TZID=Asia/Shanghai:20220327T140000
DTSTAMP:20260421T133117
CREATED:20220217T140511Z
LAST-MODIFIED:20220321T041220Z
UID:1517-1648369800-1648389600@docwa.com.au
SUMMARY:Club Ride - Captain Dave A.
DESCRIPTION:Leaving from BP Wild Bean Ascot 8:30 to 8:45am meet leaving at 9am \nRide Captain Dave Alberghini \n\nPLEASE NOTE: There will be a stop in York for a quick refreshment/bite to eat/smoko. \nLunch is booked at the Cunderdin Hotel. \nYOU WILL NEED TO HAVE A MASK AND CURRENT VAX CERTIFICATE OR SERVICEWA APP SHOWING YOUR STATUS \n$15 Subsidy provided to all participating members \nThis is a good longer ride – approx 450 km Taking in the towns of Quairading\, Cunderdin and York on some magnificent roads \n98 Octane fuel available at all stops on this ride \n4.5- 5 hours riding plus time for lunch
URL:https://docwa.com.au/event/club-ride-captain-dave-a/
LOCATION:BP Wild Bean in Ascot
ORGANIZER;CN="Dave Alberghini":MAILTO:ride_captains@docwa.com.au
END:VEVENT
END:VCALENDAR