BEGIN:VCALENDAR
VERSION:2.0
PRODID:-//DOCWA - ECPv6.15.20//NONSGML v1.0//EN
CALSCALE:GREGORIAN
METHOD:PUBLISH
X-WR-CALNAME:DOCWA
X-ORIGINAL-URL:https://docwa.com.au
X-WR-CALDESC:Events for DOCWA
REFRESH-INTERVAL;VALUE=DURATION:PT1H
X-Robots-Tag:noindex
X-PUBLISHED-TTL:PT1H
BEGIN:VTIMEZONE
TZID:Asia/Shanghai
BEGIN:STANDARD
TZOFFSETFROM:+0800
TZOFFSETTO:+0800
TZNAME:CST
DTSTART:20210101T000000
END:STANDARD
END:VTIMEZONE
BEGIN:VEVENT
DTSTART;TZID=Asia/Shanghai:20220319T173000
DTEND;TZID=Asia/Shanghai:20220319T220000
DTSTAMP:20260421T133118
CREATED:20220118T091506Z
LAST-MODIFIED:20220118T091506Z
UID:1502-1647711000-1647727200@docwa.com.au
SUMMARY:Night Ride - Captain Dave McPhee. Meet BP Ascot @ 5.30pm. Depart 5.45pm
DESCRIPTION:Leisurely run round the metro somewhere with a stop for a bite to eat.
URL:https://docwa.com.au/event/night-ride-captain-dave-mcphee-meet-bp-ascot-5-30pm-depart-5-45pm/
LOCATION:BP Wild Bean in Ascot
END:VEVENT
END:VCALENDAR