BEGIN:VCALENDAR
VERSION:2.0
PRODID:-//DOCWA - ECPv6.15.20//NONSGML v1.0//EN
CALSCALE:GREGORIAN
METHOD:PUBLISH
X-ORIGINAL-URL:https://docwa.com.au
X-WR-CALDESC:Events for DOCWA
REFRESH-INTERVAL;VALUE=DURATION:PT1H
X-Robots-Tag:noindex
X-PUBLISHED-TTL:PT1H
BEGIN:VTIMEZONE
TZID:Asia/Shanghai
BEGIN:STANDARD
TZOFFSETFROM:+0800
TZOFFSETTO:+0800
TZNAME:CST
DTSTART:20210101T000000
END:STANDARD
END:VTIMEZONE
BEGIN:VEVENT
DTSTART;TZID=Asia/Shanghai:20220220T083000
DTEND;TZID=Asia/Shanghai:20220220T123000
DTSTAMP:20260421T151225
CREATED:20220118T091041Z
LAST-MODIFIED:20220217T150615Z
UID:1499-1645345800-1645360200@docwa.com.au
SUMMARY:Breaky Ride - Ride Captain John Merc.
DESCRIPTION:
URL:https://docwa.com.au/event/breaky-ride-ride-captain-john-merc/
LOCATION:BP Wild Bean in Ascot
END:VEVENT
END:VCALENDAR