BEGIN:VCALENDAR
VERSION:2.0
PRODID:-//DOCWA - ECPv6.15.20//NONSGML v1.0//EN
CALSCALE:GREGORIAN
METHOD:PUBLISH
X-ORIGINAL-URL:https://docwa.com.au
X-WR-CALDESC:Events for DOCWA
REFRESH-INTERVAL;VALUE=DURATION:PT1H
X-Robots-Tag:noindex
X-PUBLISHED-TTL:PT1H
BEGIN:VTIMEZONE
TZID:Asia/Shanghai
BEGIN:STANDARD
TZOFFSETFROM:+0800
TZOFFSETTO:+0800
TZNAME:CST
DTSTART:20210101T000000
END:STANDARD
END:VTIMEZONE
BEGIN:VEVENT
DTSTART;TZID=Asia/Shanghai:20220123T080000
DTEND;TZID=Asia/Shanghai:20220123T120000
DTSTAMP:20260421T180307
CREATED:20220118T081721Z
LAST-MODIFIED:20220118T081721Z
UID:1491-1642924800-1642939200@docwa.com.au
SUMMARY:Breaky Ride - Captain Chrispy - ALL 404's WELCOME $10 subsidy for all club members
DESCRIPTION:Bring out your old and new Ducati bikes as they are meant to be ridden. This will be an easy club breakfast ride on Sunday Jan 23 thru the hills and home by lunch.\nArrive 8.15am at BP Ascot Wild Bean Cafe on Cnr Resolution drive and Grt Eastern Hwy Belmont. Departing by 8.30am\nContact Chrispy 0407166594
URL:https://docwa.com.au/event/breaky-ride-captain-chrispy-all-404s-welcome-10-subsidy-for-all-club-members/
LOCATION:BP Wild Bean in Ascot
END:VEVENT
END:VCALENDAR