BEGIN:VCALENDAR
VERSION:2.0
PRODID:-//DOCWA - ECPv6.15.20//NONSGML v1.0//EN
CALSCALE:GREGORIAN
METHOD:PUBLISH
X-WR-CALNAME:DOCWA
X-ORIGINAL-URL:https://docwa.com.au
X-WR-CALDESC:Events for DOCWA
REFRESH-INTERVAL;VALUE=DURATION:PT1H
X-Robots-Tag:noindex
X-PUBLISHED-TTL:PT1H
BEGIN:VTIMEZONE
TZID:Asia/Shanghai
BEGIN:STANDARD
TZOFFSETFROM:+0800
TZOFFSETTO:+0800
TZNAME:CST
DTSTART:20200101T000000
END:STANDARD
END:VTIMEZONE
BEGIN:VEVENT
DTSTART;TZID=Asia/Shanghai:20211202T190000
DTEND;TZID=Asia/Shanghai:20211202T210000
DTSTAMP:20260421T211102
CREATED:20210729T142510Z
LAST-MODIFIED:20210729T142510Z
UID:1396-1638471600-1638478800@docwa.com.au
SUMMARY:Committee Meeting -
DESCRIPTION:
URL:https://docwa.com.au/event/committee-meeting-12/
LOCATION:Belmont Sport & Recreation Club\, 400 Abernethy Rd\, Cloverdale\, WA\, 6105\, Australia
END:VEVENT
END:VCALENDAR