BEGIN:VCALENDAR
VERSION:2.0
PRODID:-//DOCWA - ECPv6.15.20//NONSGML v1.0//EN
CALSCALE:GREGORIAN
METHOD:PUBLISH
X-WR-CALNAME:DOCWA
X-ORIGINAL-URL:https://docwa.com.au
X-WR-CALDESC:Events for DOCWA
REFRESH-INTERVAL;VALUE=DURATION:PT1H
X-Robots-Tag:noindex
X-PUBLISHED-TTL:PT1H
BEGIN:VTIMEZONE
TZID:Asia/Shanghai
BEGIN:STANDARD
TZOFFSETFROM:+0800
TZOFFSETTO:+0800
TZNAME:CST
DTSTART:20200101T000000
END:STANDARD
END:VTIMEZONE
BEGIN:VEVENT
DTSTART;TZID=Asia/Shanghai:20211127T080000
DTEND;TZID=Asia/Shanghai:20211128T170000
DTSTAMP:20260421T194408
CREATED:20210729T152512Z
LAST-MODIFIED:20210927T043818Z
UID:1429-1638000000-1638118800@docwa.com.au
SUMMARY:Morawa Central west Run - overnighter
DESCRIPTION:Looking for a proper ride. Here it is! Look for emails including the details.
URL:https://docwa.com.au/event/morawa-central-west-run-overnighter/
LOCATION:BP Wild Bean in Ascot
END:VEVENT
END:VCALENDAR