BEGIN:VCALENDAR
VERSION:2.0
PRODID:-//DOCWA - ECPv6.15.20//NONSGML v1.0//EN
CALSCALE:GREGORIAN
METHOD:PUBLISH
X-WR-CALNAME:DOCWA
X-ORIGINAL-URL:https://docwa.com.au
X-WR-CALDESC:Events for DOCWA
REFRESH-INTERVAL;VALUE=DURATION:PT1H
X-Robots-Tag:noindex
X-PUBLISHED-TTL:PT1H
BEGIN:VTIMEZONE
TZID:Asia/Shanghai
BEGIN:STANDARD
TZOFFSETFROM:+0800
TZOFFSETTO:+0800
TZNAME:CST
DTSTART:20200101T000000
END:STANDARD
END:VTIMEZONE
BEGIN:VEVENT
DTSTART;TZID=Asia/Shanghai:20211114T081500
DTEND;TZID=Asia/Shanghai:20211114T150000
DTSTAMP:20260421T224959
CREATED:20210729T151953Z
LAST-MODIFIED:20211101T090245Z
UID:1426-1636877700-1636902000@docwa.com.au
SUMMARY:Bella Italia - Italian Car and Bike Day
DESCRIPTION:Bring your bike along for a few hours and check out all the great machinery made in Italy \nAlways a great event. A regular event for the club so we’d like to see as much support. Bring along your bikes regardless of age or condition\n\nGetting there. Make your own way to Mulberry Estate. Just be there before 9.30am.\nOR feel free to join a group ride to the venue leaving from BP Ascot at 8.15am sharp.\n\nRegistration. To get free display access please register as soon as possible at the following site:\nhttps://www.trybooking.com/BURLI\n\nFree brekky. For displayers\, please contact David Lunn (vicepresident@docwa.com.au) by 5th November if you’d like the club to spot you a bacon and egg roll!\n\n\nSee less
URL:https://docwa.com.au/event/bella-italia-italian-car-and-bike-day/
LOCATION:Mulberry Estate\, Caversham
ORGANIZER;CN="Rochelle Burley":MAILTO:events@docwa.com.au
END:VEVENT
END:VCALENDAR