BEGIN:VCALENDAR
VERSION:2.0
PRODID:-//DOCWA - ECPv6.15.20//NONSGML v1.0//EN
CALSCALE:GREGORIAN
METHOD:PUBLISH
X-ORIGINAL-URL:https://docwa.com.au
X-WR-CALDESC:Events for DOCWA
REFRESH-INTERVAL;VALUE=DURATION:PT1H
X-Robots-Tag:noindex
X-PUBLISHED-TTL:PT1H
BEGIN:VTIMEZONE
TZID:Asia/Shanghai
BEGIN:STANDARD
TZOFFSETFROM:+0800
TZOFFSETTO:+0800
TZNAME:CST
DTSTART:20200101T000000
END:STANDARD
END:VTIMEZONE
BEGIN:VEVENT
DTSTART;TZID=Asia/Shanghai:20210912T080000
DTEND;TZID=Asia/Shanghai:20210912T130000
DTSTAMP:20260422T014154
CREATED:20210729T143813Z
LAST-MODIFIED:20210824T002354Z
UID:1400-1631433600-1631451600@docwa.com.au
SUMMARY:Breaky Ride -
DESCRIPTION:Ride Captain – Dave Alberghini.  This will be an ‘extended urban’ ride – with Capt’n Dave sharing a few of his special closer to town twisties.  This will be a perfect ride for folks wanting a nice diverse ride all on a single tank of fuel.
URL:https://docwa.com.au/event/breaky-ride-7/
LOCATION:BP Wild Bean in Ascot
ORGANIZER;CN="Dave Alberghini":MAILTO:ride_captains@docwa.com.au
END:VEVENT
END:VCALENDAR