BEGIN:VCALENDAR
VERSION:2.0
PRODID:-//DOCWA - ECPv6.15.20//NONSGML v1.0//EN
CALSCALE:GREGORIAN
METHOD:PUBLISH
X-WR-CALNAME:DOCWA
X-ORIGINAL-URL:https://docwa.com.au
X-WR-CALDESC:Events for DOCWA
REFRESH-INTERVAL;VALUE=DURATION:PT1H
X-Robots-Tag:noindex
X-PUBLISHED-TTL:PT1H
BEGIN:VTIMEZONE
TZID:Asia/Shanghai
BEGIN:STANDARD
TZOFFSETFROM:+0800
TZOFFSETTO:+0800
TZNAME:CST
DTSTART:20200101T000000
END:STANDARD
END:VTIMEZONE
BEGIN:VEVENT
DTSTART;TZID=Asia/Shanghai:20210808T080000
DTEND;TZID=Asia/Shanghai:20210808T130000
DTSTAMP:20260422T020209
CREATED:20210729T142920Z
LAST-MODIFIED:20210807T104900Z
UID:1398-1628409600-1628427600@docwa.com.au
SUMMARY:Breaky Ride (including 404) - CANCELLED DUE TO BAD WEATHER
DESCRIPTION:Ride captain Chrispy.. NOTE… Ride reluctantly cancelled due to scheduled rain… We will look to reschedule. Sorry…
URL:https://docwa.com.au/event/breaky-ride-including-404/
LOCATION:Ampol Foodary\, Byford
ORGANIZER;CN="Chrispy":MAILTO:404Registrar@docwa.com.au
END:VEVENT
END:VCALENDAR