BEGIN:VCALENDAR
VERSION:2.0
PRODID:-//DOCWA - ECPv6.15.20//NONSGML v1.0//EN
CALSCALE:GREGORIAN
METHOD:PUBLISH
X-ORIGINAL-URL:https://docwa.com.au
X-WR-CALDESC:Events for DOCWA
REFRESH-INTERVAL;VALUE=DURATION:PT1H
X-Robots-Tag:noindex
X-PUBLISHED-TTL:PT1H
BEGIN:VTIMEZONE
TZID:Asia/Shanghai
BEGIN:STANDARD
TZOFFSETFROM:+0800
TZOFFSETTO:+0800
TZNAME:CST
DTSTART:20200101T000000
END:STANDARD
END:VTIMEZONE
BEGIN:VEVENT
DTSTART;TZID=Asia/Shanghai:20210703T110000
DTEND;TZID=Asia/Shanghai:20210703T143000
DTSTAMP:20260422T033013
CREATED:20210702T083846Z
LAST-MODIFIED:20210702T083846Z
UID:1346-1625310000-1625322600@docwa.com.au
SUMMARY:Impromptu ride to York
DESCRIPTION:Thunderbird’s are go Lets meet at Caltex Servo Midvale @11am for a ride to a York for lunch. Impromptu Ride 404 members need to register at ride captians@docwa.com.au\ncheers Macca
URL:https://docwa.com.au/event/impromptu-ride-to-york/
LOCATION:Ampol Foodary Midvale\, Great Eastern Highway\, 375 Great Eastern Hwy\, Midvale\, WA\, Australia
END:VEVENT
END:VCALENDAR