BEGIN:VCALENDAR
VERSION:2.0
PRODID:-//DOCWA - ECPv6.15.20//NONSGML v1.0//EN
CALSCALE:GREGORIAN
METHOD:PUBLISH
X-WR-CALNAME:DOCWA
X-ORIGINAL-URL:https://docwa.com.au
X-WR-CALDESC:Events for DOCWA
REFRESH-INTERVAL;VALUE=DURATION:PT1H
X-Robots-Tag:noindex
X-PUBLISHED-TTL:PT1H
BEGIN:VTIMEZONE
TZID:Asia/Shanghai
BEGIN:STANDARD
TZOFFSETFROM:+0800
TZOFFSETTO:+0800
TZNAME:CST
DTSTART:20200101T000000
END:STANDARD
END:VTIMEZONE
BEGIN:VEVENT
DTSTART;TZID=Asia/Shanghai:20210207T080000
DTEND;TZID=Asia/Shanghai:20210207T130000
DTSTAMP:20260422T141533
CREATED:20201201T080045Z
LAST-MODIFIED:20210205T045150Z
UID:1165-1612684800-1612702800@docwa.com.au
SUMMARY:Memorial Ride\, The Ride is off
DESCRIPTION:Memorial Ride is off…… its the triple Bad weather\, Bush fires\, Covid with travel restrictions. pleases stay at home\n 
URL:https://docwa.com.au/event/memorial-ride/
LOCATION:BP Wild Bean in Ascot
END:VEVENT
END:VCALENDAR