BEGIN:VCALENDAR
VERSION:2.0
PRODID:-//DOCWA - ECPv6.15.20//NONSGML v1.0//EN
CALSCALE:GREGORIAN
METHOD:PUBLISH
X-ORIGINAL-URL:https://docwa.com.au
X-WR-CALDESC:Events for DOCWA
REFRESH-INTERVAL;VALUE=DURATION:PT1H
X-Robots-Tag:noindex
X-PUBLISHED-TTL:PT1H
BEGIN:VTIMEZONE
TZID:Asia/Shanghai
BEGIN:STANDARD
TZOFFSETFROM:+0800
TZOFFSETTO:+0800
TZNAME:CST
DTSTART:20190101T000000
END:STANDARD
END:VTIMEZONE
BEGIN:VEVENT
DTSTART;TZID=Asia/Shanghai:20201112T190000
DTEND;TZID=Asia/Shanghai:20201112T210000
DTSTAMP:20260422T153156
CREATED:20201023T072846Z
LAST-MODIFIED:20201023T072904Z
UID:1121-1605207600-1605214800@docwa.com.au
SUMMARY:Committee Meeting
DESCRIPTION:Committee Meeting at Roch’s digs
URL:https://docwa.com.au/event/committee-meeting-5/
END:VEVENT
END:VCALENDAR