BEGIN:VCALENDAR
VERSION:2.0
PRODID:-//DOCWA - ECPv6.15.20//NONSGML v1.0//EN
CALSCALE:GREGORIAN
METHOD:PUBLISH
X-ORIGINAL-URL:https://docwa.com.au
X-WR-CALDESC:Events for DOCWA
REFRESH-INTERVAL;VALUE=DURATION:PT1H
X-Robots-Tag:noindex
X-PUBLISHED-TTL:PT1H
BEGIN:VTIMEZONE
TZID:Asia/Shanghai
BEGIN:STANDARD
TZOFFSETFROM:+0800
TZOFFSETTO:+0800
TZNAME:CST
DTSTART:20190101T000000
END:STANDARD
END:VTIMEZONE
BEGIN:VEVENT
DTSTART;TZID=Asia/Shanghai:20201108T081500
DTEND;TZID=Asia/Shanghai:20201108T120000
DTSTAMP:20260422T153106
CREATED:20201101T092119Z
LAST-MODIFIED:20201101T092119Z
UID:1126-1604823300-1604836800@docwa.com.au
SUMMARY:Breakfast Ride
DESCRIPTION:Let’s ride! Arrive at 0815 for 0830 depart. Breakfast at the Vintage Dining Room in Toodyay run by Lynda from Kiss Catering who looks after us at Numduc.\n\n 
URL:https://docwa.com.au/event/breakfast-ride/
LOCATION:BP Wild Bean in Ascot
END:VEVENT
END:VCALENDAR