BEGIN:VCALENDAR
VERSION:2.0
PRODID:-//DOCWA - ECPv6.15.20//NONSGML v1.0//EN
CALSCALE:GREGORIAN
METHOD:PUBLISH
X-WR-CALNAME:DOCWA
X-ORIGINAL-URL:https://docwa.com.au
X-WR-CALDESC:Events for DOCWA
REFRESH-INTERVAL;VALUE=DURATION:PT1H
X-Robots-Tag:noindex
X-PUBLISHED-TTL:PT1H
BEGIN:VTIMEZONE
TZID:Asia/Shanghai
BEGIN:STANDARD
TZOFFSETFROM:+0800
TZOFFSETTO:+0800
TZNAME:CST
DTSTART:20190101T000000
END:STANDARD
END:VTIMEZONE
BEGIN:VEVENT
DTSTART;TZID=Asia/Shanghai:20201004T080000
DTEND;TZID=Asia/Shanghai:20201004T140000
DTSTAMP:20260422T170630
CREATED:20200715T080504Z
LAST-MODIFIED:20200815T024236Z
UID:1071-1601798400-1601820000@docwa.com.au
SUMMARY:Breaky Ride
DESCRIPTION:Breaky Ride our new Ride capt John M has got this one \,cant wait for this
URL:https://docwa.com.au/event/breaky-ride-5/
LOCATION:BP Wild Bean in Ascot
END:VEVENT
END:VCALENDAR