BEGIN:VCALENDAR
VERSION:2.0
PRODID:-//DOCWA - ECPv6.15.20//NONSGML v1.0//EN
CALSCALE:GREGORIAN
METHOD:PUBLISH
X-ORIGINAL-URL:https://docwa.com.au
X-WR-CALDESC:Events for DOCWA
REFRESH-INTERVAL;VALUE=DURATION:PT1H
X-Robots-Tag:noindex
X-PUBLISHED-TTL:PT1H
BEGIN:VTIMEZONE
TZID:Asia/Shanghai
BEGIN:STANDARD
TZOFFSETFROM:+0800
TZOFFSETTO:+0800
TZNAME:CST
DTSTART:20190101T000000
END:STANDARD
END:VTIMEZONE
BEGIN:VEVENT
DTSTART;TZID=Asia/Shanghai:20200905T170000
DTEND;TZID=Asia/Shanghai:20200905T210000
DTSTAMP:20260422T183816
CREATED:20200710T090611Z
LAST-MODIFIED:20200831T085319Z
UID:1052-1599325200-1599339600@docwa.com.au
SUMMARY:Night Ride
DESCRIPTION:Night Ride West Coast Ride. dinner at a pub east/west ? Non Members are welcome to come check out Docwa \nRide Capt Macca
URL:https://docwa.com.au/event/night-ride/
LOCATION:BP Wild Bean in Ascot
END:VEVENT
END:VCALENDAR