BEGIN:VCALENDAR
VERSION:2.0
PRODID:-//DOCWA - ECPv6.15.20//NONSGML v1.0//EN
CALSCALE:GREGORIAN
METHOD:PUBLISH
X-ORIGINAL-URL:https://docwa.com.au
X-WR-CALDESC:Events for DOCWA
REFRESH-INTERVAL;VALUE=DURATION:PT1H
X-Robots-Tag:noindex
X-PUBLISHED-TTL:PT1H
BEGIN:VTIMEZONE
TZID:Asia/Shanghai
BEGIN:STANDARD
TZOFFSETFROM:+0800
TZOFFSETTO:+0800
TZNAME:CST
DTSTART:20190101T000000
END:STANDARD
END:VTIMEZONE
BEGIN:VEVENT
DTSTART;TZID=Asia/Shanghai:20200823T080000
DTEND;TZID=Asia/Shanghai:20200823T170000
DTSTAMP:20260422T202658
CREATED:20200710T090202Z
LAST-MODIFIED:20200818T215934Z
UID:1050-1598169600-1598202000@docwa.com.au
SUMMARY:404 Combined Club Ride  to Collie for the HISTORIC COMPETITION MOTORCYCLE CLUB OF W.A.
DESCRIPTION:404 combined Club ride ride to Collie for the HCMC round 5 race. \nChrispy is the ride capt\, a big day coming up\,HISTORIC COMPETITION MOTORCYCLE CLUB OF W.A.
URL:https://docwa.com.au/event/404-ride-to-collie/
LOCATION:Ampol Foodary\, Byford
END:VEVENT
END:VCALENDAR