BEGIN:VCALENDAR
VERSION:2.0
PRODID:-//DOCWA - ECPv6.15.20//NONSGML v1.0//EN
CALSCALE:GREGORIAN
METHOD:PUBLISH
X-WR-CALNAME:DOCWA
X-ORIGINAL-URL:https://docwa.com.au
X-WR-CALDESC:Events for DOCWA
REFRESH-INTERVAL;VALUE=DURATION:PT1H
X-Robots-Tag:noindex
X-PUBLISHED-TTL:PT1H
BEGIN:VTIMEZONE
TZID:Asia/Shanghai
BEGIN:STANDARD
TZOFFSETFROM:+0800
TZOFFSETTO:+0800
TZNAME:CST
DTSTART:20190101T000000
END:STANDARD
END:VTIMEZONE
BEGIN:VEVENT
DTSTART;TZID=Asia/Shanghai:20200809T080000
DTEND;TZID=Asia/Shanghai:20200809T170000
DTSTAMP:20260422T202623
CREATED:20200710T085840Z
LAST-MODIFIED:20200808T015313Z
UID:1048-1596960000-1596992400@docwa.com.au
SUMMARY:Club Ride. CANCELLED due to Heavy Falls  and 30 Km/h winds
DESCRIPTION:Heavy falls possible. Winds northeasterly 30 to 40 km/h increasing to 35 to 50 km/h in the morning then turning north to northwesterly 20 to 30 km/h in the afternoon.
URL:https://docwa.com.au/event/club-ride-2/
END:VEVENT
END:VCALENDAR