BEGIN:VCALENDAR
VERSION:2.0
PRODID:-//DOCWA - ECPv6.15.20//NONSGML v1.0//EN
CALSCALE:GREGORIAN
METHOD:PUBLISH
X-ORIGINAL-URL:https://docwa.com.au
X-WR-CALDESC:Events for DOCWA
REFRESH-INTERVAL;VALUE=DURATION:PT1H
X-Robots-Tag:noindex
X-PUBLISHED-TTL:PT1H
BEGIN:VTIMEZONE
TZID:Asia/Shanghai
BEGIN:STANDARD
TZOFFSETFROM:+0800
TZOFFSETTO:+0800
TZNAME:CST
DTSTART:20190101T000000
END:STANDARD
END:VTIMEZONE
BEGIN:VEVENT
DTSTART;TZID=Asia/Shanghai:20200801T080000
DTEND;TZID=Asia/Shanghai:20200802T170000
DTSTAMP:20260422T202701
CREATED:20200710T084919Z
LAST-MODIFIED:20200710T084919Z
UID:1044-1596268800-1596387600@docwa.com.au
SUMMARY:The Dirty Weekend
DESCRIPTION:“The Dirty Weekend” All DOCWA members are invited to a social weekend of camping at the Rally Site on Grunters farm. The first weekend in August. Bring your wife\, kids and friendly dogs. Also bring your trail bikes\, scramblers\, mini bikes or rally darmahs to get dirty on. BYO food\, especially pizzas\, and booze. See you there. Cheers\, Ted Farm \n\n\n 
URL:https://docwa.com.au/event/the-dirty-weekend/
LOCATION:Grunters farm\, Dowerin-Meckering Rd\, Dowerin\, WA\, 6461\, Australia
END:VEVENT
END:VCALENDAR