BEGIN:VCALENDAR
VERSION:2.0
PRODID:-//DOCWA - ECPv6.15.20//NONSGML v1.0//EN
CALSCALE:GREGORIAN
METHOD:PUBLISH
X-WR-CALNAME:DOCWA
X-ORIGINAL-URL:https://docwa.com.au
X-WR-CALDESC:Events for DOCWA
REFRESH-INTERVAL;VALUE=DURATION:PT1H
X-Robots-Tag:noindex
X-PUBLISHED-TTL:PT1H
BEGIN:VTIMEZONE
TZID:Asia/Shanghai
BEGIN:STANDARD
TZOFFSETFROM:+0800
TZOFFSETTO:+0800
TZNAME:CST
DTSTART:20190101T000000
END:STANDARD
END:VTIMEZONE
BEGIN:VEVENT
DTSTART;TZID=Asia/Shanghai:20200614T083000
DTEND;TZID=Asia/Shanghai:20200614T150000
DTSTAMP:20260423T013956
CREATED:20200310T085851Z
LAST-MODIFIED:20200515T104729Z
UID:985-1592123400-1592146800@docwa.com.au
SUMMARY:Club ride
DESCRIPTION:Time to get the spiders off your bike.\nCLUB RIDE\nMeet at Caltex Midvale @ 8.30am for 8.45am Departure.\nCaptain CRAIG 0417 978 979
URL:https://docwa.com.au/event/club-ride-4/
END:VEVENT
END:VCALENDAR