BEGIN:VCALENDAR
VERSION:2.0
PRODID:-//DOCWA - ECPv6.15.20//NONSGML v1.0//EN
CALSCALE:GREGORIAN
METHOD:PUBLISH
X-ORIGINAL-URL:https://docwa.com.au
X-WR-CALDESC:Events for DOCWA
REFRESH-INTERVAL;VALUE=DURATION:PT1H
X-Robots-Tag:noindex
X-PUBLISHED-TTL:PT1H
BEGIN:VTIMEZONE
TZID:Asia/Shanghai
BEGIN:STANDARD
TZOFFSETFROM:+0800
TZOFFSETTO:+0800
TZNAME:CST
DTSTART:20190101T000000
END:STANDARD
END:VTIMEZONE
BEGIN:VEVENT
DTSTART;TZID=Asia/Shanghai:20200523T180000
DTEND;TZID=Asia/Shanghai:20200523T230000
DTSTAMP:20260423T014026
CREATED:20200310T085519Z
LAST-MODIFIED:20200515T103705Z
UID:981-1590256800-1590274800@docwa.com.au
SUMMARY:Club ride - Sun Downer
DESCRIPTION:SUN DOWNER RIDE\nMeet at BP WIld Bean Ascot @ 6.00pm for 6.15pm Departure\nCaptain CRAIG 0417 978 979
URL:https://docwa.com.au/event/club-ride-3/
LOCATION:BP Wild Bean in Ascot
END:VEVENT
END:VCALENDAR