BEGIN:VCALENDAR
VERSION:2.0
PRODID:-//DOCWA - ECPv6.15.20//NONSGML v1.0//EN
CALSCALE:GREGORIAN
METHOD:PUBLISH
X-ORIGINAL-URL:https://docwa.com.au
X-WR-CALDESC:Events for DOCWA
REFRESH-INTERVAL;VALUE=DURATION:PT1H
X-Robots-Tag:noindex
X-PUBLISHED-TTL:PT1H
BEGIN:VTIMEZONE
TZID:Asia/Shanghai
BEGIN:STANDARD
TZOFFSETFROM:+0800
TZOFFSETTO:+0800
TZNAME:CST
DTSTART:20190101T000000
END:STANDARD
END:VTIMEZONE
BEGIN:VEVENT
DTSTART;TZID=Asia/Shanghai:20200426T120000
DTEND;TZID=Asia/Shanghai:20200427T150000
DTSTAMP:20260423T014016
CREATED:20200216T110737Z
LAST-MODIFIED:20200326T071428Z
UID:955-1587902400-1587999600@docwa.com.au
SUMMARY:memorial ride to mark the anniversary of Bruffy’s death. Ride Cancelled
DESCRIPTION:
URL:https://docwa.com.au/event/memorial-ride-to-mark-the-anniversary-of-bruffys-death/
END:VEVENT
END:VCALENDAR