BEGIN:VCALENDAR
VERSION:2.0
PRODID:-//DOCWA - ECPv6.15.20//NONSGML v1.0//EN
CALSCALE:GREGORIAN
METHOD:PUBLISH
X-ORIGINAL-URL:https://docwa.com.au
X-WR-CALDESC:Events for DOCWA
REFRESH-INTERVAL;VALUE=DURATION:PT1H
X-Robots-Tag:noindex
X-PUBLISHED-TTL:PT1H
BEGIN:VTIMEZONE
TZID:Asia/Shanghai
BEGIN:STANDARD
TZOFFSETFROM:+0800
TZOFFSETTO:+0800
TZNAME:CST
DTSTART:20190101T000000
END:STANDARD
END:VTIMEZONE
BEGIN:VEVENT
DTSTART;TZID=Asia/Shanghai:20200411T080000
DTEND;TZID=Asia/Shanghai:20200412T170000
DTSTAMP:20260423T031343
CREATED:20191226T055517Z
LAST-MODIFIED:20200326T072120Z
UID:933-1586592000-1586710800@docwa.com.au
SUMMARY:APRIL 11/12 ROUND 1 COLLIE TT. Cancelled
DESCRIPTION:
URL:https://docwa.com.au/event/april-11-12-round-1-collie-tt/
END:VEVENT
BEGIN:VEVENT
DTSTART;TZID=Asia/Shanghai:20200412T080000
DTEND;TZID=Asia/Shanghai:20200412T160000
DTSTAMP:20260423T031343
CREATED:20191226T060403Z
LAST-MODIFIED:20200326T072206Z
UID:936-1586678400-1586707200@docwa.com.au
SUMMARY:Breaky ride is cancelled
DESCRIPTION:
URL:https://docwa.com.au/event/club-ride-to-waroona-showgrounds-wa/
END:VEVENT
END:VCALENDAR