BEGIN:VCALENDAR
VERSION:2.0
PRODID:-//DOCWA - ECPv6.15.20//NONSGML v1.0//EN
CALSCALE:GREGORIAN
METHOD:PUBLISH
X-ORIGINAL-URL:https://docwa.com.au
X-WR-CALDESC:Events for DOCWA
REFRESH-INTERVAL;VALUE=DURATION:PT1H
X-Robots-Tag:noindex
X-PUBLISHED-TTL:PT1H
BEGIN:VTIMEZONE
TZID:Asia/Shanghai
BEGIN:STANDARD
TZOFFSETFROM:+0800
TZOFFSETTO:+0800
TZNAME:CST
DTSTART:20190101T000000
END:STANDARD
END:VTIMEZONE
BEGIN:VEVENT
DTSTART;TZID=Asia/Shanghai:20200307T080000
DTEND;TZID=Asia/Shanghai:20200308T170000
DTSTAMP:20260423T043629
CREATED:20191226T053123Z
LAST-MODIFIED:20191226T053123Z
UID:922-1583568000-1583686800@docwa.com.au
SUMMARY:Rally in Bunbury
DESCRIPTION:Two Day Rally 7th and 8th March 2020 \nThis is our premier event of the year and is open to all Indian Harley Club members and also members of any other vintage/historic motorcycle club.  Machines ridden must be over 25 years old.  For more information see the Information Pack.  If you would like to post your entry in please download the Entry Pack or enter online using the link below. \nPlease direct any queries about the rally to Glenda Patterson on 0417018225 or Bert Sykes on 0400799947. \nRegistrations (limited to 200 riders) close on 7th February 2020.  Definitely no entries accepted after this date\, or on the day of the rally. \nMEETING point will be posted
URL:https://docwa.com.au/event/rally-in-bunbury/
END:VEVENT
BEGIN:VEVENT
DTSTART;TZID=Asia/Shanghai:20200308T100000
DTEND;TZID=Asia/Shanghai:20200308T150000
DTSTAMP:20260423T043629
CREATED:20191226T053433Z
LAST-MODIFIED:20191226T053551Z
UID:924-1583661600-1583679600@docwa.com.au
SUMMARY:Shannon’s Classic Car Show 2020
DESCRIPTION:Shannon’s Classic Car Show 2020\n\nMarch 8\, 2020 @ 10:00 am – 3:00 pm\n– $10.00 \n\n\nShannon’s Classic Car Show returns to Ascot Racecourse for 2020 on Sunday 8th March. With 2020 hindsight we’ll be looking back on ‘Past Cars of the Future.’ \nYou can expect to see displays from 70 of Perth’s classic motoring clubs\, showcasing over 1000 vehicles of all types\, from trucks to buses\, classic cars and bikes\, to sports and performance vehicles. \nThere will also be trade stalls and displays by complimentary interest groups\, clubs and community groups. \nClassic Car Show is more than just cars – it’s a vintage experience for the whole family. Put it in your diary now and keep an eye out for updates.
URL:https://docwa.com.au/event/shannons-classic-car-show-2020/
END:VEVENT
END:VCALENDAR