BEGIN:VCALENDAR
VERSION:2.0
PRODID:-//DOCWA - ECPv6.15.20//NONSGML v1.0//EN
CALSCALE:GREGORIAN
METHOD:PUBLISH
X-ORIGINAL-URL:https://docwa.com.au
X-WR-CALDESC:Events for DOCWA
REFRESH-INTERVAL;VALUE=DURATION:PT1H
X-Robots-Tag:noindex
X-PUBLISHED-TTL:PT1H
BEGIN:VTIMEZONE
TZID:Asia/Shanghai
BEGIN:STANDARD
TZOFFSETFROM:+0800
TZOFFSETTO:+0800
TZNAME:CST
DTSTART:20190101T000000
END:STANDARD
END:VTIMEZONE
BEGIN:VEVENT
DTSTART;TZID=Asia/Shanghai:20200216T063000
DTEND;TZID=Asia/Shanghai:20200216T140000
DTSTAMP:20260423T054731
CREATED:20191226T050552Z
LAST-MODIFIED:20191226T050638Z
UID:915-1581834600-1581861600@docwa.com.au
SUMMARY:Northam Swap Meet
DESCRIPTION:Sunday\, 16 Feb – Sunday 16\, 2020\n6:30 am – 2:00 pm\n Jubilee Oval Showgrounds\, Peel Terrace Northam WA 6401\n\n\n\n\n\n\n\n\n\n\n\n\nvintage cars\, trucks\, tractors\, motorcycles\, machinery\, engines\, used spare parts\, collectables\, etc\n\n\n\n\n\n\n\n\n\nPresented by the Avon Valley Vintage Vehicle Association of WA Inc Supported by the Shire of Northam. Vintage cars\, trucks\, tractors\, motorcycles\, machinery\, engines\, used spare parts\, collectables\, etc. Public Entry : $5:00 per person (Kids Free).  Enquiries PO Box 755 Northam WA. http://www.avonvintagecars.org.au/
URL:https://docwa.com.au/event/northam-swap-meet/
END:VEVENT
END:VCALENDAR