BEGIN:VCALENDAR
VERSION:2.0
PRODID:-//DOCWA - ECPv6.15.20//NONSGML v1.0//EN
CALSCALE:GREGORIAN
METHOD:PUBLISH
X-WR-CALNAME:DOCWA
X-ORIGINAL-URL:https://docwa.com.au
X-WR-CALDESC:Events for DOCWA
REFRESH-INTERVAL;VALUE=DURATION:PT1H
X-Robots-Tag:noindex
X-PUBLISHED-TTL:PT1H
BEGIN:VTIMEZONE
TZID:Asia/Shanghai
BEGIN:STANDARD
TZOFFSETFROM:+0800
TZOFFSETTO:+0800
TZNAME:CST
DTSTART:20180101T000000
END:STANDARD
END:VTIMEZONE
BEGIN:VEVENT
DTSTART;TZID=Asia/Shanghai:20191115T190000
DTEND;TZID=Asia/Shanghai:20191115T203000
DTSTAMP:20260423T230616
CREATED:20191106T080104Z
LAST-MODIFIED:20191106T080104Z
UID:711-1573844400-1573849800@docwa.com.au
SUMMARY:General Meeting
DESCRIPTION:
URL:https://docwa.com.au/event/general-meeting/
LOCATION:The Balmoral Hotel\, 901 Albany Hwy\, East Victoria Park\, WA\, 6101\, Australia
END:VEVENT
END:VCALENDAR