BEGIN:VCALENDAR
VERSION:2.0
PRODID:-//DOCWA - ECPv6.15.20//NONSGML v1.0//EN
CALSCALE:GREGORIAN
METHOD:PUBLISH
X-ORIGINAL-URL:https://docwa.com.au
X-WR-CALDESC:Events for DOCWA
REFRESH-INTERVAL;VALUE=DURATION:PT1H
X-Robots-Tag:noindex
X-PUBLISHED-TTL:PT1H
BEGIN:VTIMEZONE
TZID:Asia/Shanghai
BEGIN:STANDARD
TZOFFSETFROM:+0800
TZOFFSETTO:+0800
TZNAME:CST
DTSTART:20180101T000000
END:STANDARD
END:VTIMEZONE
BEGIN:VEVENT
DTSTART;TZID=Asia/Shanghai:20191102T080000
DTEND;TZID=Asia/Shanghai:20191103T170000
DTSTAMP:20260423T230614
CREATED:20191003T123713Z
LAST-MODIFIED:20191003T123713Z
UID:573-1572681600-1572800400@docwa.com.au
SUMMARY:Albany Vintage and Classic Motorcycle Weekend
DESCRIPTION:A ripper weekend!  Check out the link to this fabulous weekend of old bikes tearing around! \nDOCWA meeting locations and ride details TBA. \n 
URL:https://docwa.com.au/event/albany-vintage-and-classic-motorcycle-weekend/
END:VEVENT
BEGIN:VEVENT
DTSTART;TZID=Asia/Shanghai:20191103T083000
DTEND;TZID=Asia/Shanghai:20191103T150000
DTSTAMP:20260423T230614
CREATED:20191003T122954Z
LAST-MODIFIED:20191003T123149Z
UID:570-1572769800-1572793200@docwa.com.au
SUMMARY:Show and Shine - Rotary Italian Day
DESCRIPTION:This is a must attend event and a permanent fixture on the DOCWA calendar! \nDisplay your bike (all ages and styles welcome) and score free entry to check out a mind boggling array of automotive finery! \nVenue: Gloucester Park\, Nelson Cres\, East Perth\nTime: Display vehicles in before 9am
URL:https://docwa.com.au/event/show-and-shine-rotary-italian-day/
LOCATION:gloucester park\, Nelson Crescent\, East Perth
ORGANIZER;CN="Chrispy":MAILTO:404Registrar@docwa.com.au
END:VEVENT
END:VCALENDAR